BEGIN:VCALENDAR
VERSION:2.0
PRODID:-//DEEPTECH Campus Circle//Event//DE
CALSCALE:GREGORIAN
METHOD:PUBLISH
BEGIN:VEVENT
UID:dtcc-soft-opening-after-work-1@deeptech.hamburg
DTSTART;TZID=Europe/Berlin:20260303T180000
DTEND;TZID=Europe/Berlin:20260303T220000
SUMMARY:DTCC: Soft Opening & After Work #1
LOCATION:DEEPTECH Campus, Heimhuder Straße 56, Hamburg
DESCRIPTION:Wir bringen die ersten Mitglieder und Firmenpartner zusammen. Ziel des Abends ist ein unkomplizierter Austausch in entspannter Runde. Kurze Vorstellungsrunde, Networking bei Kaltgetränken und echten Gesprächen. Open End.\n\nhttps://deeptech.hamburg/event/dtcc-soft-opening-after-work-1
URL:https://deeptech.hamburg/event/dtcc-soft-opening-after-work-1
DTSTAMP:20260423T192643Z
STATUS:CONFIRMED
END:VEVENT
END:VCALENDAR