BEGIN:VCALENDAR
VERSION:2.0
PRODID:-//DEEPTECH Campus Circle//Event//DE
CALSCALE:GREGORIAN
METHOD:PUBLISH
BEGIN:VEVENT
UID:bolognese-protocol-cxo-dinner@deeptech.hamburg
DTSTART;TZID=Europe/Berlin:20260505T180000
DTEND;TZID=Europe/Berlin:20260505T220000
SUMMARY:Bolognese Protocol 🍝 CXO Dinner
LOCATION:DEEPTECH Campus, Heimhuder Straße 56, Hamburg
DESCRIPTION:Zeitgleich zur OMR öffnen wir unsere Räume für einen Abend, der den Kontrast zum Programm macht. Hohe Decken, Stuck, Kunst an den Wänden. Der DEEPTECH Campus Circle ist eine der repräsentativsten Adressen der Stadt, wenige Minuten vom Zentrum entfernt.\n\nUnd auf den Tellern: hausgemachte Bolognese mit Nudeln.\n\nEin Gericht, das sich in dieser Umgebung nicht seriös essen lässt. Genau das ist der Punkt. Wo die Gabel Haltung kostet, fällt die Fassade. Wo die Fassade fällt, beginnt das eigentliche Ges\n\nhttps://deeptech.hamburg/event/bolognese-protocol-cxo-dinner
URL:https://deeptech.hamburg/event/bolognese-protocol-cxo-dinner
DTSTAMP:20260423T150318Z
STATUS:CONFIRMED
END:VEVENT
END:VCALENDAR